BEGIN:VCALENDAR
VERSION:2.0
METHOD:PUBLISH
BEGIN:VEVENT
DTSTART:20230505T130000Z
DTEND:20230507T180000Z
LOCATION:Yorktown Heights, NY 10598
TRANSP: OPAQUE
SEQUENCE:0
UID:
DTSTAMP:20260422T025747Z
SUMMARY:Hudson Estate Sales is MAD for MOD! 
DESCRIPTION:Hudson Estate Sales is MAD for MOD!  Hudson Estate Sales, LLC 
UID:1776848267
STREET-ADDRESS:See website
POSTAL-CODE:10598
LOCALITY:Yorktown Heights
REGION:ABBREV=NY
COUNTRY:ABBREV=US;ABBREV=USA:United States
URL;TYPE=Event Listing:https://estatesales.org/estate-sales/ny/yorktown-heights/10598/hudson-estate-sales-is-mad-2176639
PRIORITY:1
CLASS:PUBLIC
SEQUENCE:0
STATUS:CONFIRMED
TRANSP:OPAQUE
END:VEVENT
END:VCALENDAR
