BEGIN:VCALENDAR
VERSION:2.0
METHOD:PUBLISH
BEGIN:VEVENT
DTSTART:20180505T160000Z
DTEND:20180506T220000Z
LOCATION:Santa Rosa, CA 95404
TRANSP: OPAQUE
SEQUENCE:0
UID:
DTSTAMP:20260421T124213Z
SUMMARY:SPECTACULAR ESTATE SALE - FINALLY, "THE HOUSE"!!
DESCRIPTION:SPECTACULAR ESTATE SALE - FINALLY, "THE HOUSE"!! Susan Gardner Estate Sales 
UID:1776796933
STREET-ADDRESS:See website
POSTAL-CODE:95404
LOCALITY:Santa Rosa
REGION:ABBREV=CA
COUNTRY:ABBREV=US;ABBREV=USA:United States
URL;TYPE=Event Listing:https://estatesales.org/estate-sales/ca/santa-rosa/95404/spectacular-estate-sale-finally-the-1511321
PRIORITY:1
CLASS:PUBLIC
SEQUENCE:0
STATUS:CONFIRMED
TRANSP:OPAQUE
END:VEVENT
END:VCALENDAR
