BEGIN:VCALENDAR
VERSION:2.0
METHOD:PUBLISH
BEGIN:VEVENT
DTSTART:20170505T140000Z
DTEND:20170506T200000Z
LOCATION:Alva, FL 33920
TRANSP: OPAQUE
SEQUENCE:0
UID:
DTSTAMP:20260425T162221Z
SUMMARY:WELCOME TO THE COOL SALE IN "ALVA FL"
DESCRIPTION:WELCOME TO THE COOL SALE IN "ALVA FL" A PRESTIGE ESTATE SERVICES National Company 
UID:1777155741
STREET-ADDRESS:See website
POSTAL-CODE:33920
LOCALITY:Alva
REGION:ABBREV=FL
COUNTRY:ABBREV=US;ABBREV=USA:United States
URL;TYPE=Event Listing:https://estatesales.org/estate-sales/fl/alva/33920/welcome-to-the-cool-sale-1135853
PRIORITY:1
CLASS:PUBLIC
SEQUENCE:0
STATUS:CONFIRMED
TRANSP:OPAQUE
END:VEVENT
END:VCALENDAR
