BEGIN:VCALENDAR
VERSION:2.0
METHOD:PUBLISH
BEGIN:VEVENT
DTSTART:20170505T140000Z
DTEND:20170506T180000Z
LOCATION:Hudson, WI 54016
TRANSP: OPAQUE
SEQUENCE:0
UID:
DTSTAMP:20260419T201431Z
SUMMARY:Fabulous North Hudson Estate Sale
DESCRIPTION:Fabulous North Hudson Estate Sale Caring Transitions Twin Cities East 
UID:1776651271
STREET-ADDRESS:See website
POSTAL-CODE:54016
LOCALITY:Hudson
REGION:ABBREV=WI
COUNTRY:ABBREV=US;ABBREV=USA:United States
URL;TYPE=Event Listing:https://estatesales.org/estate-sales/wi/hudson/54016/fabulous-north-hudson-estate-sale-1153097
PRIORITY:1
CLASS:PUBLIC
SEQUENCE:0
STATUS:CONFIRMED
TRANSP:OPAQUE
END:VEVENT
END:VCALENDAR
