BEGIN:VCALENDAR
VERSION:2.0
METHOD:PUBLISH
BEGIN:VEVENT
DTSTART:20220504T140000Z
DTEND:20220513T210000Z
LOCATION:Dothan, AL 36303
TRANSP: OPAQUE
SEQUENCE:0
UID:
DTSTAMP:20260419T054018Z
SUMMARY:Huge Farm Sale in the City Limits - Equipment, Tools, Cars, Trucks, Mowers 
DESCRIPTION:Huge Farm Sale in the City Limits - Equipment, Tools, Cars, Trucks, Mowers  Dothan Estate Sales 
UID:1776598818
STREET-ADDRESS:See website
POSTAL-CODE:36303
LOCALITY:Dothan
REGION:ABBREV=AL
COUNTRY:ABBREV=US;ABBREV=USA:United States
URL;TYPE=Event Listing:https://estatesales.org/estate-sales/al/dothan/36303/huge-farm-sale-in-the-2033055
PRIORITY:1
CLASS:PUBLIC
SEQUENCE:0
STATUS:CONFIRMED
TRANSP:OPAQUE
END:VEVENT
END:VCALENDAR
