BEGIN:VCALENDAR
VERSION:2.0
METHOD:PUBLISH
BEGIN:VEVENT
DTSTART:20190504T123000Z
DTEND:20190505T200000Z
LOCATION:Stone Mountain, GA 30087
TRANSP: OPAQUE
SEQUENCE:0
UID:
DTSTAMP:20260419T113747Z
SUMMARY:ALL MUST GO!! UP TO 60% OFF SUNDAY !! SALE IN OLD SMOKE RISE / ST.MT
DESCRIPTION:ALL MUST GO!! UP TO 60% OFF SUNDAY !! SALE IN OLD SMOKE RISE / ST.MT Eleanors Estate Sales and Liquidators, LLC 
UID:1776620267
STREET-ADDRESS:See website
POSTAL-CODE:30087
LOCALITY:Stone Mountain
REGION:ABBREV=GA
COUNTRY:ABBREV=US;ABBREV=USA:United States
URL;TYPE=Event Listing:https://estatesales.org/estate-sales/ga/stone-mountain/30087/all-must-go-up-to-1653647
PRIORITY:1
CLASS:PUBLIC
SEQUENCE:0
STATUS:CONFIRMED
TRANSP:OPAQUE
END:VEVENT
END:VCALENDAR
