BEGIN:VCALENDAR
VERSION:2.0
METHOD:PUBLISH
BEGIN:VEVENT
DTSTART:20190504T120000Z
DTEND:20190508T210000Z
LOCATION:By appointment only.
TRANSP: OPAQUE
SEQUENCE:0
UID:
DTSTAMP:20260420T021115Z
SUMMARY:Camper from Estate
DESCRIPTION:Camper from Estate Unique Antiques 
UID:1776672675
STREET-ADDRESS:See website
POSTAL-CODE:30907
LOCALITY:Augusta
REGION:ABBREV=GA
COUNTRY:ABBREV=US;ABBREV=USA:United States
URL;TYPE=Event Listing:https://estatesales.org/estate-sales/ga/martinez/30907/camper-from-estate-1656919
PRIORITY:1
CLASS:PUBLIC
SEQUENCE:0
STATUS:CONFIRMED
TRANSP:OPAQUE
END:VEVENT
END:VCALENDAR
