BEGIN:VCALENDAR
VERSION:2.0
METHOD:PUBLISH
BEGIN:VEVENT
DTSTART:20260503T140000Z
DTEND:20260503T190000Z
LOCATION:Hewlett, NY 11557 (Full address will be shown on Sat, May 2 12:00am)
TRANSP: OPAQUE
SEQUENCE:0
UID:
DTSTAMP:20260422T143340Z
SUMMARY:Hewlett Tag Sale by Mona
DESCRIPTION:Hewlett Tag Sale by Mona Tag Sales By Mona 
UID:1776890020
STREET-ADDRESS:See website
POSTAL-CODE:11557
LOCALITY:Hewlett
REGION:ABBREV=NY
COUNTRY:ABBREV=US;ABBREV=USA:United States
URL;TYPE=Event Listing:https://estatesales.org/estate-sales/ny/hewlett/11557/hewlett-tag-sale-by-mona-2436620
PRIORITY:1
CLASS:PUBLIC
SEQUENCE:0
STATUS:CONFIRMED
TRANSP:OPAQUE
END:VEVENT
END:VCALENDAR
