BEGIN:VCALENDAR
VERSION:2.0
METHOD:PUBLISH
BEGIN:VEVENT
DTSTART:20260503T120000Z
DTEND:20260503T180000Z
LOCATION:Chelmsford, MA 01824 (Full address will be shown on Sat, May 2 9:00am)
TRANSP: OPAQUE
SEQUENCE:0
UID:
DTSTAMP:20260424T130850Z
SUMMARY:LAST MINUTE ESTATE! Loaded 3rd Generation Chelmsford Home - DIG DIG DIG! Vintage Everything! Unreal!
DESCRIPTION:LAST MINUTE ESTATE! Loaded 3rd Generation Chelmsford Home - DIG DIG DIG! Vintage Everything! Unreal! The Estate Kings 
UID:1777057730
STREET-ADDRESS:See website
POSTAL-CODE:01824
LOCALITY:Chelmsford
REGION:ABBREV=MA
COUNTRY:ABBREV=US;ABBREV=USA:United States
URL;TYPE=Event Listing:https://estatesales.org/estate-sales/ma/chelmsford/01824/last-minute-estate-loaded-3rd-2437097
PRIORITY:1
CLASS:PUBLIC
SEQUENCE:0
STATUS:CONFIRMED
TRANSP:OPAQUE
END:VEVENT
END:VCALENDAR
