BEGIN:VCALENDAR
VERSION:2.0
METHOD:PUBLISH
BEGIN:VEVENT
DTSTART:20250503T170000Z
DTEND:20250504T230000Z
LOCATION:Los Angeles, CA 90077
TRANSP: OPAQUE
SEQUENCE:0
UID:
DTSTAMP:20260422T084604Z
SUMMARY:60's + ARTWORK + DEMO!!! MCM cool finds check it out!
DESCRIPTION:60's + ARTWORK + DEMO!!! MCM cool finds check it out!
UID:1776869164
STREET-ADDRESS:See website
POSTAL-CODE:90077
LOCALITY:Los Angeles
REGION:ABBREV=CA
COUNTRY:ABBREV=US;ABBREV=USA:United States
URL;TYPE=Event Listing:https://estatesales.org/estate-sales/ca/los-angeles/90077/60s-artwork-demo-mcm-cool-2376496
PRIORITY:1
CLASS:PUBLIC
SEQUENCE:0
STATUS:CONFIRMED
TRANSP:OPAQUE
END:VEVENT
END:VCALENDAR
