BEGIN:VCALENDAR
VERSION:2.0
METHOD:PUBLISH
BEGIN:VEVENT
DTSTART:20250503T140000Z
DTEND:20250504T190000Z
LOCATION:Washington, DC 20011
TRANSP: OPAQUE
SEQUENCE:0
UID:
DTSTAMP:20260421T163014Z
SUMMARY:Crestwood Memories Estate Sale
DESCRIPTION:Crestwood Memories Estate Sale Lasting Treasures Estate Sales 
UID:1776810614
STREET-ADDRESS:See website
POSTAL-CODE:20011
LOCALITY:Washington
REGION:ABBREV=DC
COUNTRY:ABBREV=US;ABBREV=USA:United States
URL;TYPE=Event Listing:https://estatesales.org/estate-sales/dc/washington/20011/crestwood-memories-estate-sale-2374929
PRIORITY:1
CLASS:PUBLIC
SEQUENCE:0
STATUS:CONFIRMED
TRANSP:OPAQUE
END:VEVENT
END:VCALENDAR
