BEGIN:VCALENDAR
VERSION:2.0
METHOD:PUBLISH
BEGIN:VEVENT
DTSTART:20250503T140000Z
DTEND:20250504T190000Z
LOCATION:Downers Grove, IL 60515
TRANSP: OPAQUE
SEQUENCE:0
UID:
DTSTAMP:20260421T234804Z
SUMMARY:A MOMENT IN TIME - DOWNERS GROVE - lovely home filled floor to ceiling!
DESCRIPTION:A MOMENT IN TIME - DOWNERS GROVE - lovely home filled floor to ceiling! A Moment In Time Estate Sales,INC 
UID:1776836884
STREET-ADDRESS:See website
POSTAL-CODE:60515
LOCALITY:Downers Grove
REGION:ABBREV=IL
COUNTRY:ABBREV=US;ABBREV=USA:United States
URL;TYPE=Event Listing:https://estatesales.org/estate-sales/il/downers-grove/60515/a-moment-in-time-downers-2371963
PRIORITY:1
CLASS:PUBLIC
SEQUENCE:0
STATUS:CONFIRMED
TRANSP:OPAQUE
END:VEVENT
END:VCALENDAR
