BEGIN:VCALENDAR
VERSION:2.0
METHOD:PUBLISH
BEGIN:VEVENT
DTSTART:20250503T160000Z
DTEND:20250504T200000Z
LOCATION:Manteca, CA 95336
TRANSP: OPAQUE
SEQUENCE:0
UID:
DTSTAMP:20260422T005911Z
SUMMARY:Tons of Brand New Shoes, Purses, Clothing, Kitchenware, Bedding, Toiletries, Beauty products & more along with used & vintage items
DESCRIPTION:Tons of Brand New Shoes, Purses, Clothing, Kitchenware, Bedding, Toiletries, Beauty products & more along with used & vintage items Caring Transitions of Manteca 
UID:1776841151
STREET-ADDRESS:See website
POSTAL-CODE:95336
LOCALITY:Manteca
REGION:ABBREV=CA
COUNTRY:ABBREV=US;ABBREV=USA:United States
URL;TYPE=Event Listing:https://estatesales.org/estate-sales/ca/manteca/95336/tons-of-brand-new-shoes-2375796
PRIORITY:1
CLASS:PUBLIC
SEQUENCE:0
STATUS:CONFIRMED
TRANSP:OPAQUE
END:VEVENT
END:VCALENDAR
