BEGIN:VCALENDAR
VERSION:2.0
METHOD:PUBLISH
BEGIN:VEVENT
DTSTART:20250503T160000Z
DTEND:20250503T200000Z
LOCATION:Covina, CA 91724
TRANSP: OPAQUE
SEQUENCE:0
UID:
DTSTAMP:20260423T111933Z
SUMMARY:One Day Blow Out Sale by Grasons Pomona Valley
DESCRIPTION:One Day Blow Out Sale by Grasons Pomona Valley Grasons Pomona Valley 
UID:1776964773
STREET-ADDRESS:See website
POSTAL-CODE:91724
LOCALITY:Covina
REGION:ABBREV=CA
COUNTRY:ABBREV=US;ABBREV=USA:United States
URL;TYPE=Event Listing:https://estatesales.org/estate-sales/ca/covina/91724/one-day-blow-out-sale-2370408
PRIORITY:1
CLASS:PUBLIC
SEQUENCE:0
STATUS:CONFIRMED
TRANSP:OPAQUE
END:VEVENT
END:VCALENDAR
