BEGIN:VCALENDAR
VERSION:2.0
METHOD:PUBLISH
BEGIN:VEVENT
DTSTART:20240503T153000Z
DTEND:20240505T203000Z
LOCATION:Valrico, FL 33596
TRANSP: OPAQUE
SEQUENCE:0
UID:
DTSTAMP:20260421T144549Z
SUMMARY:Friday Thru Sunday Part 2 Valrico Estate Sale
DESCRIPTION:Friday Thru Sunday Part 2 Valrico Estate Sale Done Deal Estate Sales and Appraisals, LLC 
UID:1776804349
STREET-ADDRESS:See website
POSTAL-CODE:33596
LOCALITY:Valrico
REGION:ABBREV=FL
COUNTRY:ABBREV=US;ABBREV=USA:United States
URL;TYPE=Event Listing:https://estatesales.org/estate-sales/fl/valrico/33596/friday-thru-sunday-part-2-2313219
PRIORITY:1
CLASS:PUBLIC
SEQUENCE:0
STATUS:CONFIRMED
TRANSP:OPAQUE
END:VEVENT
END:VCALENDAR
