BEGIN:VCALENDAR
VERSION:2.0
METHOD:PUBLISH
BEGIN:VEVENT
DTSTART:20240503T150000Z
DTEND:20240504T200000Z
LOCATION:Crown Point, IN 46307
TRANSP: OPAQUE
SEQUENCE:0
UID:
DTSTAMP:20260419T070251Z
SUMMARY:Dennis Dvorshak Est-Feather Rock- 2,000+ 33 1/3 vinyl records, 40+ Stereo Electronics!
DESCRIPTION:Dennis Dvorshak Est-Feather Rock- 2,000+ 33 1/3 vinyl records, 40+ Stereo Electronics! Auction & Estates by Diana Cook 
UID:1776603771
STREET-ADDRESS:See website
POSTAL-CODE:46307
LOCALITY:Crown Point
REGION:ABBREV=IN
COUNTRY:ABBREV=US;ABBREV=USA:United States
URL;TYPE=Event Listing:https://estatesales.org/estate-sales/in/crown-point/46307/dennis-dvorshak-estfeather-rock-2000-2309129
PRIORITY:1
CLASS:PUBLIC
SEQUENCE:0
STATUS:CONFIRMED
TRANSP:OPAQUE
END:VEVENT
END:VCALENDAR
