BEGIN:VCALENDAR
VERSION:2.0
METHOD:PUBLISH
BEGIN:VEVENT
DTSTART:20240503T140000Z
DTEND:20240505T190000Z
LOCATION:Neenah, WI 54956
TRANSP: OPAQUE
SEQUENCE:0
UID:
DTSTAMP:20260424T073946Z
SUMMARY:Neenah estate sale by Greater Fox Valley Estate Sales
DESCRIPTION:Neenah estate sale by Greater Fox Valley Estate Sales Greater Fox Valley Estate Sales / Chip's Treasures LLC 
UID:1777037986
STREET-ADDRESS:See website
POSTAL-CODE:54956
LOCALITY:Neenah
REGION:ABBREV=WI
COUNTRY:ABBREV=US;ABBREV=USA:United States
URL;TYPE=Event Listing:https://estatesales.org/estate-sales/wi/neenah/54956/neenah-estate-sale-by-greater-2310717
PRIORITY:1
CLASS:PUBLIC
SEQUENCE:0
STATUS:CONFIRMED
TRANSP:OPAQUE
END:VEVENT
END:VCALENDAR
