BEGIN:VCALENDAR
VERSION:2.0
METHOD:PUBLISH
BEGIN:VEVENT
DTSTART:20190503T160000Z
DTEND:20190505T220000Z
LOCATION:Grand Junction, CO 81504
TRANSP: OPAQUE
SEQUENCE:0
UID:
DTSTAMP:20260419T152349Z
SUMMARY:Red Mountain Part II & More
DESCRIPTION:Red Mountain Part II & More Estate Treasures by Grand Junction Estate Sales 
UID:1776633829
STREET-ADDRESS:See website
POSTAL-CODE:81504
LOCALITY:Grand Junction
REGION:ABBREV=CO
COUNTRY:ABBREV=US;ABBREV=USA:United States
URL;TYPE=Event Listing:https://estatesales.org/estate-sales/co/grand-junction/81504/red-mountain-part-ii-more-1654977
PRIORITY:1
CLASS:PUBLIC
SEQUENCE:0
STATUS:CONFIRMED
TRANSP:OPAQUE
END:VEVENT
END:VCALENDAR
