BEGIN:VCALENDAR
VERSION:2.0
METHOD:PUBLISH
BEGIN:VEVENT
DTSTART:20180503T140000Z
DTEND:20180505T190000Z
LOCATION:Ann Arbor, MI 48103
TRANSP: OPAQUE
SEQUENCE:0
UID:
DTSTAMP:20260423T233328Z
SUMMARY:AMAZING ANN ARBOR ESTATE SALE!
DESCRIPTION:AMAZING ANN ARBOR ESTATE SALE! TLC Premiere Estate Sales, LLC 
UID:1777008808
STREET-ADDRESS:See website
POSTAL-CODE:48103
LOCALITY:Ann Arbor
REGION:ABBREV=MI
COUNTRY:ABBREV=US;ABBREV=USA:United States
URL;TYPE=Event Listing:https://estatesales.org/estate-sales/mi/ann-arbor/48103/amazing-ann-arbor-estate-sale-1507067
PRIORITY:1
CLASS:PUBLIC
SEQUENCE:0
STATUS:CONFIRMED
TRANSP:OPAQUE
END:VEVENT
END:VCALENDAR
