BEGIN:VCALENDAR
VERSION:2.0
METHOD:PUBLISH
BEGIN:VEVENT
DTSTART:20260502T150000Z
DTEND:20260503T210000Z
LOCATION:Chicago, IL 60618 (Full address will be shown on Sat, May 2 7:00am)
TRANSP: OPAQUE
SEQUENCE:0
UID:
DTSTAMP:20260423T195240Z
SUMMARY:North Center 2 Day Sale - Everything Must GO!
DESCRIPTION:North Center 2 Day Sale - Everything Must GO! Grasons of Lincoln Square, IL 
UID:1776995560
STREET-ADDRESS:See website
POSTAL-CODE:60618
LOCALITY:Chicago
REGION:ABBREV=IL
COUNTRY:ABBREV=US;ABBREV=USA:United States
URL;TYPE=Event Listing:https://estatesales.org/estate-sales/il/chicago/60618/north-center-2-day-sale-2436674
PRIORITY:1
CLASS:PUBLIC
SEQUENCE:0
STATUS:CONFIRMED
TRANSP:OPAQUE
END:VEVENT
END:VCALENDAR
