BEGIN:VCALENDAR
VERSION:2.0
METHOD:PUBLISH
BEGIN:VEVENT
DTSTART:20260502T130000Z
DTEND:20260503T210000Z
LOCATION:Dacula, GA 30019 (Full address will be shown on Fri, May 1 12:00am)
TRANSP: OPAQUE
SEQUENCE:0
UID:
DTSTAMP:20260422T125308Z
SUMMARY:Dacula, Collectables, Furniture and more
DESCRIPTION:Dacula, Collectables, Furniture and more
UID:1776883988
STREET-ADDRESS:See website
POSTAL-CODE:30019
LOCALITY:Dacula
REGION:ABBREV=GA
COUNTRY:ABBREV=US;ABBREV=USA:United States
URL;TYPE=Event Listing:https://estatesales.org/estate-sales/ga/dacula/30019/dacula-collectables-furniture-and-more-2436213
PRIORITY:1
CLASS:PUBLIC
SEQUENCE:0
STATUS:CONFIRMED
TRANSP:OPAQUE
END:VEVENT
END:VCALENDAR
