BEGIN:VCALENDAR
VERSION:2.0
METHOD:PUBLISH
BEGIN:VEVENT
DTSTART:20260502T130000Z
DTEND:20260503T200000Z
LOCATION:Monroe, NH 03771 (Full address will be shown on Sat, May 2 6:00am)
TRANSP: OPAQUE
SEQUENCE:0
UID:
DTSTAMP:20260424T003111Z
SUMMARY:One for the Fellows
DESCRIPTION:One for the Fellows Aunt Anna's Attic 
UID:1777012271
STREET-ADDRESS:See website
POSTAL-CODE:03771
LOCALITY:Monroe
REGION:ABBREV=NH
COUNTRY:ABBREV=US;ABBREV=USA:United States
URL;TYPE=Event Listing:https://estatesales.org/estate-sales/nh/monroe/03771/one-for-the-fellows-2436761
PRIORITY:1
CLASS:PUBLIC
SEQUENCE:0
STATUS:CONFIRMED
TRANSP:OPAQUE
END:VEVENT
END:VCALENDAR
