BEGIN:VCALENDAR
VERSION:2.0
METHOD:PUBLISH
BEGIN:VEVENT
DTSTART:20260502T160000Z
DTEND:20260503T210000Z
LOCATION:Ceres, CA 95307 (Full address will be shown on Fri, May 1 9:00am)
TRANSP: OPAQUE
SEQUENCE:0
UID:
DTSTAMP:20260422T183253Z
SUMMARY:Tools, Torque & Treasures
DESCRIPTION:Tools, Torque & Treasures Heart and Home Estate Sales 
UID:1776904373
STREET-ADDRESS:See website
POSTAL-CODE:95307
LOCALITY:Ceres
REGION:ABBREV=CA
COUNTRY:ABBREV=US;ABBREV=USA:United States
URL;TYPE=Event Listing:https://estatesales.org/estate-sales/ca/ceres/95307/tools-torque-treasures-2436668
PRIORITY:1
CLASS:PUBLIC
SEQUENCE:0
STATUS:CONFIRMED
TRANSP:OPAQUE
END:VEVENT
END:VCALENDAR
