BEGIN:VCALENDAR
VERSION:2.0
METHOD:PUBLISH
BEGIN:VEVENT
DTSTART:20260502T130000Z
DTEND:20260503T180000Z
LOCATION:Fort Lauderdale, FL 33312 (Full address will be shown on Fri, May 1 12:00am)
TRANSP: OPAQUE
SEQUENCE:0
UID:
DTSTAMP:20260421T152840Z
SUMMARY:Collectibles, baseball cards, antiques, everything goes
DESCRIPTION:Collectibles, baseball cards, antiques, everything goes Auctions 4 America 
UID:1776806920
STREET-ADDRESS:See website
POSTAL-CODE:33312
LOCALITY:Fort Lauderdale
REGION:ABBREV=FL
COUNTRY:ABBREV=US;ABBREV=USA:United States
URL;TYPE=Event Listing:https://estatesales.org/estate-sales/fl/fort-lauderdale/33312/collectibles-baseball-cards-antiques-everything-2436248
PRIORITY:1
CLASS:PUBLIC
SEQUENCE:0
STATUS:CONFIRMED
TRANSP:OPAQUE
END:VEVENT
END:VCALENDAR
