BEGIN:VCALENDAR
VERSION:2.0
METHOD:PUBLISH
BEGIN:VEVENT
DTSTART:20260502T160000Z
DTEND:20260502T190000Z
LOCATION:Lancaster, CA 93536 (Full address will be shown on Thu, Apr 30 12:00am)
TRANSP: OPAQUE
SEQUENCE:0
UID:
DTSTAMP:20260424T221355Z
SUMMARY:Flash Sale – 1 Day Only | Tools, Audio Equipment, Home Decor, Glassware, Books, Toys & More!
DESCRIPTION:Flash Sale – 1 Day Only | Tools, Audio Equipment, Home Decor, Glassware, Books, Toys & More! Caring Transitions of Santa Clarita & San Fernando Valley 
UID:1777090435
STREET-ADDRESS:See website
POSTAL-CODE:93536
LOCALITY:Lancaster
REGION:ABBREV=CA
COUNTRY:ABBREV=US;ABBREV=USA:United States
URL;TYPE=Event Listing:https://estatesales.org/estate-sales/ca/lancaster/93536/flash-sale-1-day-only-2437179
PRIORITY:1
CLASS:PUBLIC
SEQUENCE:0
STATUS:CONFIRMED
TRANSP:OPAQUE
END:VEVENT
END:VCALENDAR
