BEGIN:VCALENDAR
VERSION:2.0
METHOD:PUBLISH
BEGIN:VEVENT
DTSTART:20260502T130000Z
DTEND:20260502T180000Z
LOCATION:Falmouth, MA 02536 (Full address will be shown on Fri, May 1 8:00pm)
TRANSP: OPAQUE
SEQUENCE:0
UID:
DTSTAMP:20260420T231514Z
SUMMARY:REMARKABLE EAST FALMOUTH ESTATE SALE SAT MAY 2ND ANTIQUES, HUGE ART STUDIO, PAINTINGS, OLD PHOTOS, EARLY BOOKS, DEPRESSION ERA PURPLE GLASS, FURNITURE, COLLECTIBLES, TOOLS & MORE! DON'T MISS IT!!!
DESCRIPTION:REMARKABLE EAST FALMOUTH ESTATE SALE SAT MAY 2ND ANTIQUES, HUGE ART STUDIO, PAINTINGS, OLD PHOTOS, EARLY BOOKS, DEPRESSION ERA PURPLE GLASS, FURNITURE, COLLECTIBLES, TOOLS & MORE! DON'T MISS IT!!! BEST RATE CLEANOUTS & ESTATE SALES 
UID:1776748514
STREET-ADDRESS:See website
POSTAL-CODE:02536
LOCALITY:Falmouth
REGION:ABBREV=MA
COUNTRY:ABBREV=US;ABBREV=USA:United States
URL;TYPE=Event Listing:https://estatesales.org/estate-sales/ma/falmouth/02536/remarkable-east-falmouth-estate-sale-2436260
PRIORITY:1
CLASS:PUBLIC
SEQUENCE:0
STATUS:CONFIRMED
TRANSP:OPAQUE
END:VEVENT
END:VCALENDAR
