BEGIN:VCALENDAR
VERSION:2.0
METHOD:PUBLISH
BEGIN:VEVENT
DTSTART:20260502T120000Z
DTEND:20260503T170000Z
LOCATION:Mount Laurel, NJ 08054 (Full address will be shown on Fri, May 1 12:00am)
TRANSP: OPAQUE
SEQUENCE:0
UID:
DTSTAMP:20260423T205320Z
SUMMARY:Giant Yard Sale!!!!!
DESCRIPTION:Giant Yard Sale!!!!!
UID:1776999200
STREET-ADDRESS:See website
POSTAL-CODE:08054
LOCALITY:Mount Laurel
REGION:ABBREV=NJ
COUNTRY:ABBREV=US;ABBREV=USA:United States
URL;TYPE=Event Listing:https://estatesales.org/estate-sales/nj/mount-laurel/08054/giant-yard-sale-2436837
PRIORITY:1
CLASS:PUBLIC
SEQUENCE:0
STATUS:CONFIRMED
TRANSP:OPAQUE
END:VEVENT
END:VCALENDAR
