BEGIN:VCALENDAR
VERSION:2.0
METHOD:PUBLISH
BEGIN:VEVENT
DTSTART:20250502T160000Z
DTEND:20250503T210000Z
LOCATION:Westminster, CA 92683
TRANSP: OPAQUE
SEQUENCE:0
UID:
DTSTAMP:20260423T214643Z
SUMMARY:Grasons Integrity Vintage Westminster 3 Day Estate Sale
DESCRIPTION:Grasons Integrity Vintage Westminster 3 Day Estate Sale Grasons Co Integrity Estate Sale Services 
UID:1777002403
STREET-ADDRESS:See website
POSTAL-CODE:92683
LOCALITY:Westminster
REGION:ABBREV=CA
COUNTRY:ABBREV=US;ABBREV=USA:United States
URL;TYPE=Event Listing:https://estatesales.org/estate-sales/ca/westminster/92683/grasons-integrity-vintage-westminster-3-2374568
PRIORITY:1
CLASS:PUBLIC
SEQUENCE:0
STATUS:CONFIRMED
TRANSP:OPAQUE
END:VEVENT
END:VCALENDAR
