BEGIN:VCALENDAR
VERSION:2.0
METHOD:PUBLISH
BEGIN:VEVENT
DTSTART:20240502T160000Z
DTEND:20240504T210000Z
LOCATION:Walnut Creek, CA 94595
TRANSP: OPAQUE
SEQUENCE:0
UID:
DTSTAMP:20260419T054017Z
SUMMARY:Estate Sale Spectacular in Walnut Creek Ca. by Horizons.
DESCRIPTION:Estate Sale Spectacular in Walnut Creek Ca. by Horizons. Horizons Estate Sales LLC 
UID:1776598817
STREET-ADDRESS:See website
POSTAL-CODE:94595
LOCALITY:Walnut Creek
REGION:ABBREV=CA
COUNTRY:ABBREV=US;ABBREV=USA:United States
URL;TYPE=Event Listing:https://estatesales.org/estate-sales/ca/walnut-creek/94595/estate-sale-spectacular-in-walnut-2312696
PRIORITY:1
CLASS:PUBLIC
SEQUENCE:0
STATUS:CONFIRMED
TRANSP:OPAQUE
END:VEVENT
END:VCALENDAR
