BEGIN:VCALENDAR
VERSION:2.0
METHOD:PUBLISH
BEGIN:VEVENT
DTSTART:20150502T150000Z
DTEND:20150503T190000Z
LOCATION:Quogue, NY 11959
TRANSP: OPAQUE
SEQUENCE:0
UID:
DTSTAMP:20260423T223839Z
SUMMARY:ARTS & ARTIFACTS SALE
DESCRIPTION:ARTS & ARTIFACTS SALE re.luxeHamptons 
UID:1777005519
STREET-ADDRESS:See website
POSTAL-CODE:11959
LOCALITY:Quogue
REGION:ABBREV=NY
COUNTRY:ABBREV=US;ABBREV=USA:United States
URL;TYPE=Event Listing:https://estatesales.org/estate-sales/ny/quogue/11959/arts-artifacts-sale-538840
PRIORITY:1
CLASS:PUBLIC
SEQUENCE:0
STATUS:CONFIRMED
TRANSP:OPAQUE
END:VEVENT
END:VCALENDAR
