BEGIN:VCALENDAR
VERSION:2.0
METHOD:PUBLISH
BEGIN:VEVENT
DTSTART:20260501T140000Z
DTEND:20260502T180000Z
LOCATION:Collingswood, NJ 08108 (Full address will be shown on Fri, May 1 5:00am)
TRANSP: OPAQUE
SEQUENCE:0
UID:
DTSTAMP:20260420T231246Z
SUMMARY:Come Out And See Us In Collingswood!
DESCRIPTION:Come Out And See Us In Collingswood! Anew Beginning Estate Liquidations 
UID:1776748366
STREET-ADDRESS:See website
POSTAL-CODE:08108
LOCALITY:Collingswood
REGION:ABBREV=NJ
COUNTRY:ABBREV=US;ABBREV=USA:United States
URL;TYPE=Event Listing:https://estatesales.org/estate-sales/nj/collingswood-/08108/come-out-and-see-us-2436279
PRIORITY:1
CLASS:PUBLIC
SEQUENCE:0
STATUS:CONFIRMED
TRANSP:OPAQUE
END:VEVENT
END:VCALENDAR
