BEGIN:VCALENDAR
VERSION:2.0
METHOD:PUBLISH
BEGIN:VEVENT
DTSTART:20260501T150000Z
DTEND:20260503T220000Z
LOCATION:Edmond, OK 73003 (Full address will be shown on Thu, Apr 30 6:30am)
TRANSP: OPAQUE
SEQUENCE:0
UID:
DTSTAMP:20260423T010857Z
SUMMARY:Massive Edmond Estate Sale
DESCRIPTION:Massive Edmond Estate Sale Treasure Pros Estate Sales 
UID:1776928137
STREET-ADDRESS:See website
POSTAL-CODE:73003
LOCALITY:Edmond
REGION:ABBREV=OK
COUNTRY:ABBREV=US;ABBREV=USA:United States
URL;TYPE=Event Listing:https://estatesales.org/estate-sales/ok/edmond/73003/massive-edmond-estate-sale-2436800
PRIORITY:1
CLASS:PUBLIC
SEQUENCE:0
STATUS:CONFIRMED
TRANSP:OPAQUE
END:VEVENT
END:VCALENDAR
