BEGIN:VCALENDAR
VERSION:2.0
METHOD:PUBLISH
BEGIN:VEVENT
DTSTART:20260501T140000Z
DTEND:20260503T200000Z
LOCATION:Lincolnshire, IL 60069 (Full address will be shown on Tue, Apr 28 12:00am)
TRANSP: OPAQUE
SEQUENCE:0
UID:
DTSTAMP:20260424T080511Z
SUMMARY:Downsizing Estate Sale
DESCRIPTION:Downsizing Estate Sale
UID:1777039511
STREET-ADDRESS:See website
POSTAL-CODE:60069
LOCALITY:Lincolnshire
REGION:ABBREV=IL
COUNTRY:ABBREV=US;ABBREV=USA:United States
URL;TYPE=Event Listing:https://estatesales.org/estate-sales/il/lincolnshire/60069/downsizing-estate-sale-2437062
PRIORITY:1
CLASS:PUBLIC
SEQUENCE:0
STATUS:CONFIRMED
TRANSP:OPAQUE
END:VEVENT
END:VCALENDAR
