BEGIN:VCALENDAR
VERSION:2.0
METHOD:PUBLISH
BEGIN:VEVENT
DTSTART:20260501T150000Z
DTEND:20260503T210000Z
LOCATION:Sparks, NV 89436 (Full address will be shown on Thu, Apr 30 1:00pm)
TRANSP: OPAQUE
SEQUENCE:0
UID:
DTSTAMP:20260423T182405Z
SUMMARY:Elevated Estate- A Wingfield Springs Event
DESCRIPTION:Elevated Estate- A Wingfield Springs Event Fresh Start Estate Sales 
UID:1776990245
STREET-ADDRESS:See website
POSTAL-CODE:89436
LOCALITY:Sparks
REGION:ABBREV=NV
COUNTRY:ABBREV=US;ABBREV=USA:United States
URL;TYPE=Event Listing:https://estatesales.org/estate-sales/nv/sparks/89436/elevated-estate-a-wingfield-springs-2436940
PRIORITY:1
CLASS:PUBLIC
SEQUENCE:0
STATUS:CONFIRMED
TRANSP:OPAQUE
END:VEVENT
END:VCALENDAR
