BEGIN:VCALENDAR
VERSION:2.0
METHOD:PUBLISH
BEGIN:VEVENT
DTSTART:20260501T150000Z
DTEND:20260502T220000Z
LOCATION:Salem, OR 97305 (Full address will be shown on Fri, May 1 6:00am)
TRANSP: OPAQUE
SEQUENCE:0
UID:
DTSTAMP:20260423T123742Z
SUMMARY:The Collector’s Corner - NE Salem Estate Sale
DESCRIPTION:The Collector’s Corner - NE Salem Estate Sale 4 Seasons Estate Sales, LLC 
UID:1776969462
STREET-ADDRESS:See website
POSTAL-CODE:97305
LOCALITY:Salem
REGION:ABBREV=OR
COUNTRY:ABBREV=US;ABBREV=USA:United States
URL;TYPE=Event Listing:https://estatesales.org/estate-sales/or/salem/97305/the-collectors-corner-ne-salem-2436877
PRIORITY:1
CLASS:PUBLIC
SEQUENCE:0
STATUS:CONFIRMED
TRANSP:OPAQUE
END:VEVENT
END:VCALENDAR
