BEGIN:VCALENDAR
VERSION:2.0
METHOD:PUBLISH
BEGIN:VEVENT
DTSTART:20260501T130000Z
DTEND:20260502T190000Z
LOCATION:Sanford, FL 32771 (Full address will be shown on Thu, Apr 30 9:00am)
TRANSP: OPAQUE
SEQUENCE:0
UID:
DTSTAMP:20260421T012737Z
SUMMARY:TOUCHDOWN IN A “BIG” WAY
DESCRIPTION:TOUCHDOWN IN A “BIG” WAY WAREHOUSE DEPOT 
UID:1776756457
STREET-ADDRESS:See website
POSTAL-CODE:32771
LOCALITY:Sanford
REGION:ABBREV=FL
COUNTRY:ABBREV=US;ABBREV=USA:United States
URL;TYPE=Event Listing:https://estatesales.org/estate-sales/fl/sanford/32771/touchdown-in-a-big-way-2436264
PRIORITY:1
CLASS:PUBLIC
SEQUENCE:0
STATUS:CONFIRMED
TRANSP:OPAQUE
END:VEVENT
END:VCALENDAR
