BEGIN:VCALENDAR
VERSION:2.0
METHOD:PUBLISH
BEGIN:VEVENT
DTSTART:20260501T150000Z
DTEND:20260502T200000Z
LOCATION:Colorado Springs, CO 80923 (Full address will be shown on Thu, Apr 30 12:00am)
TRANSP: OPAQUE
SEQUENCE:0
UID:
DTSTAMP:20260422T165303Z
SUMMARY:Huge Spring Estate Sale
DESCRIPTION:Huge Spring Estate Sale Mountain Estate Sales 
UID:1776898383
STREET-ADDRESS:See website
POSTAL-CODE:80923
LOCALITY:Colorado Springs
REGION:ABBREV=CO
COUNTRY:ABBREV=US;ABBREV=USA:United States
URL;TYPE=Event Listing:https://estatesales.org/estate-sales/co/colorado-springs/80923/huge-spring-estate-sale-2436416
PRIORITY:1
CLASS:PUBLIC
SEQUENCE:0
STATUS:CONFIRMED
TRANSP:OPAQUE
END:VEVENT
END:VCALENDAR
