BEGIN:VCALENDAR
VERSION:2.0
METHOD:PUBLISH
BEGIN:VEVENT
DTSTART:20260501T150000Z
DTEND:20260502T200000Z
LOCATION:Seattle, WA 98144 (Full address will be shown on Fri, May 1 8:00am)
TRANSP: OPAQUE
SEQUENCE:0
UID:
DTSTAMP:20260421T105230Z
SUMMARY:Ginny's Girls South Seattle Echoes of Elegance - Generations of Antiques & Sophisticated Collections
DESCRIPTION:Ginny's Girls South Seattle Echoes of Elegance - Generations of Antiques & Sophisticated Collections Ginny's Girls Estate Services 
UID:1776790350
STREET-ADDRESS:See website
POSTAL-CODE:98144
LOCALITY:Seattle
REGION:ABBREV=WA
COUNTRY:ABBREV=US;ABBREV=USA:United States
URL;TYPE=Event Listing:https://estatesales.org/estate-sales/wa/seattle/98144/ginnys-girls-south-seattle-echoes-2435807
PRIORITY:1
CLASS:PUBLIC
SEQUENCE:0
STATUS:CONFIRMED
TRANSP:OPAQUE
END:VEVENT
END:VCALENDAR
