BEGIN:VCALENDAR
VERSION:2.0
METHOD:PUBLISH
BEGIN:VEVENT
DTSTART:20260501T160000Z
DTEND:20260502T200000Z
LOCATION:Downey, CA 90240 (Full address will be shown on Thu, Apr 30 12:00am)
TRANSP: OPAQUE
SEQUENCE:0
UID:
DTSTAMP:20260420T231534Z
SUMMARY:Mid Century Downey Estate Sale
DESCRIPTION:Mid Century Downey Estate Sale Diamond Estate Services 
UID:1776748534
STREET-ADDRESS:See website
POSTAL-CODE:90240
LOCALITY:Downey
REGION:ABBREV=CA
COUNTRY:ABBREV=US;ABBREV=USA:United States
URL;TYPE=Event Listing:https://estatesales.org/estate-sales/ca/downey-/90240/mid-century-downey-estate-sale-2435724
PRIORITY:1
CLASS:PUBLIC
SEQUENCE:0
STATUS:CONFIRMED
TRANSP:OPAQUE
END:VEVENT
END:VCALENDAR
