BEGIN:VCALENDAR
VERSION:2.0
METHOD:PUBLISH
BEGIN:VEVENT
DTSTART:20260501T130000Z
DTEND:20260501T180000Z
LOCATION:Arlington, MA 02476 (Full address will be shown on Thu, Apr 30 8:00pm)
TRANSP: OPAQUE
SEQUENCE:0
UID:
DTSTAMP:20260420T231534Z
SUMMARY:FANTASTIC ARLINGTON ESTATE SALE FRI MAY 1ST ANTIQUES, STERLING SILVER, FURNITURE, LARGE STONE BUDDHA STATUE, CHINA, COLLECTIBLES, HOUSEHOLD GOODS & MORE!!!
DESCRIPTION:FANTASTIC ARLINGTON ESTATE SALE FRI MAY 1ST ANTIQUES, STERLING SILVER, FURNITURE, LARGE STONE BUDDHA STATUE, CHINA, COLLECTIBLES, HOUSEHOLD GOODS & MORE!!! BEST RATE CLEANOUTS & ESTATE SALES 
UID:1776748534
STREET-ADDRESS:See website
POSTAL-CODE:02476
LOCALITY:Arlington
REGION:ABBREV=MA
COUNTRY:ABBREV=US;ABBREV=USA:United States
URL;TYPE=Event Listing:https://estatesales.org/estate-sales/ma/arlington/02476/fantastic-arlington-estate-sale-fri-2436252
PRIORITY:1
CLASS:PUBLIC
SEQUENCE:0
STATUS:CONFIRMED
TRANSP:OPAQUE
END:VEVENT
END:VCALENDAR
