BEGIN:VCALENDAR
VERSION:2.0
METHOD:PUBLISH
BEGIN:VEVENT
DTSTART:20260501T120000Z
DTEND:20260503T200000Z
LOCATION:Trappe, MD 21673 (Full address will be shown on Thu, Apr 30 12:00pm)
TRANSP: OPAQUE
SEQUENCE:0
UID:
DTSTAMP:20260423T190726Z
SUMMARY:"MAY The Odds Be Ever in Your Favor"
DESCRIPTION:"MAY The Odds Be Ever in Your Favor"
UID:1776992846
STREET-ADDRESS:See website
POSTAL-CODE:21673
LOCALITY:Trappe
REGION:ABBREV=MD
COUNTRY:ABBREV=US;ABBREV=USA:United States
URL;TYPE=Event Listing:https://estatesales.org/estate-sales/md/trappe/21673/may-the-odds-be-ever-2436002
PRIORITY:1
CLASS:PUBLIC
SEQUENCE:0
STATUS:CONFIRMED
TRANSP:OPAQUE
END:VEVENT
END:VCALENDAR
