BEGIN:VCALENDAR
VERSION:2.0
METHOD:PUBLISH
BEGIN:VEVENT
DTSTART:20260501T180000Z
DTEND:20260502T170000Z
LOCATION:Aberdeen, MD 21001 (Full address will be shown on Thu, Apr 30 4:00pm)
TRANSP: OPAQUE
SEQUENCE:0
UID:
DTSTAMP:20260422T002311Z
SUMMARY:ABERDEEN ESTATE SALE… A little bit of this and a bit of that! Full house and garage!
DESCRIPTION:ABERDEEN ESTATE SALE… A little bit of this and a bit of that! Full house and garage! Around the Town Estate Sales, LLC 
UID:1776838991
STREET-ADDRESS:See website
POSTAL-CODE:21001
LOCALITY:Aberdeen
REGION:ABBREV=MD
COUNTRY:ABBREV=US;ABBREV=USA:United States
URL;TYPE=Event Listing:https://estatesales.org/estate-sales/md/aberdeen-/21001/aberdeen-estate-sale-a-little-2436506
PRIORITY:1
CLASS:PUBLIC
SEQUENCE:0
STATUS:CONFIRMED
TRANSP:OPAQUE
END:VEVENT
END:VCALENDAR
