BEGIN:VCALENDAR
VERSION:2.0
METHOD:PUBLISH
BEGIN:VEVENT
DTSTART:20250501T140000Z
DTEND:20250503T220000Z
LOCATION:Watertown, WI 53098
TRANSP: OPAQUE
SEQUENCE:0
UID:
DTSTAMP:20260420T005406Z
SUMMARY:Great Estate Sale - Watertown. 50% off almost all items Saturday
DESCRIPTION:Great Estate Sale - Watertown. 50% off almost all items Saturday
UID:1776668046
STREET-ADDRESS:See website
POSTAL-CODE:53098
LOCALITY:Watertown
REGION:ABBREV=WI
COUNTRY:ABBREV=US;ABBREV=USA:United States
URL;TYPE=Event Listing:https://estatesales.org/estate-sales/wi/watertown/53098/great-estate-sale-watertown-50-2374468
PRIORITY:1
CLASS:PUBLIC
SEQUENCE:0
STATUS:CONFIRMED
TRANSP:OPAQUE
END:VEVENT
END:VCALENDAR
