BEGIN:VCALENDAR
VERSION:2.0
METHOD:PUBLISH
BEGIN:VEVENT
DTSTART:20250501T130000Z
DTEND:20250503T170000Z
LOCATION:Saint Petersburg, FL 33702
TRANSP: OPAQUE
SEQUENCE:0
UID:
DTSTAMP:20260423T094745Z
SUMMARY:BABY BOOMERS ST. PETERSBURG ESTATE SALE
DESCRIPTION:BABY BOOMERS ST. PETERSBURG ESTATE SALE Baby Boomers Estate Sales 
UID:1776959265
STREET-ADDRESS:See website
POSTAL-CODE:33702
LOCALITY:Saint Petersburg
REGION:ABBREV=FL
COUNTRY:ABBREV=US;ABBREV=USA:United States
URL;TYPE=Event Listing:https://estatesales.org/estate-sales/fl/saint-petersburg/33702/baby-boomers-st-petersburg-estate-2375213
PRIORITY:1
CLASS:PUBLIC
SEQUENCE:0
STATUS:CONFIRMED
TRANSP:OPAQUE
END:VEVENT
END:VCALENDAR
