BEGIN:VCALENDAR
VERSION:2.0
METHOD:PUBLISH
BEGIN:VEVENT
DTSTART:20240501T220000Z
DTEND:20240502T020000Z
LOCATION:Independence, MO 64052
TRANSP: OPAQUE
SEQUENCE:0
UID:
DTSTAMP:20260423T143536Z
SUMMARY:WEDNESDAY NIGHT ESTATE AUCTION: BEER SIGNS, STEINS, VTG TOYS & T-SHIRTS+
DESCRIPTION:WEDNESDAY NIGHT ESTATE AUCTION: BEER SIGNS, STEINS, VTG TOYS & T-SHIRTS+ Carrell Auctions 
UID:1776976536
STREET-ADDRESS:See website
POSTAL-CODE:64052
LOCALITY:Independence
REGION:ABBREV=MO
COUNTRY:ABBREV=US;ABBREV=USA:United States
URL;TYPE=Event Listing:https://estatesales.org/estate-sales/mo/independence/64052/wednesday-night-estate-auction-beer-2311725
PRIORITY:1
CLASS:PUBLIC
SEQUENCE:0
STATUS:CONFIRMED
TRANSP:OPAQUE
END:VEVENT
END:VCALENDAR
