BEGIN:VCALENDAR
VERSION:2.0
METHOD:PUBLISH
BEGIN:VEVENT
DTSTART:20210501T130000Z
DTEND:20210502T200000Z
LOCATION:Trumbull, CT 06611
TRANSP: OPAQUE
SEQUENCE:0
UID:
DTSTAMP:20260424T115814Z
SUMMARY:'HIS + HERS' Trumbull In-Home Moving Sale
DESCRIPTION:'HIS + HERS' Trumbull In-Home Moving Sale A Golden Grasshopper Estate Sales 
UID:1777053494
STREET-ADDRESS:See website
POSTAL-CODE:06611
LOCALITY:Trumbull
REGION:ABBREV=CT
COUNTRY:ABBREV=US;ABBREV=USA:United States
URL;TYPE=Event Listing:https://estatesales.org/estate-sales/ct/trumbull/06611/his-hers-trumbull-inhome-moving-1896277
PRIORITY:1
CLASS:PUBLIC
SEQUENCE:0
STATUS:CONFIRMED
TRANSP:OPAQUE
END:VEVENT
END:VCALENDAR
