BEGIN:VCALENDAR
VERSION:2.0
METHOD:PUBLISH
BEGIN:VEVENT
DTSTART:20210501T160000Z
DTEND:20210502T220000Z
LOCATION:Santa Rosa, CA 95405
TRANSP: OPAQUE
SEQUENCE:0
UID:
DTSTAMP:20260421T124213Z
SUMMARY:Contents of Lovely Bennett Valley Home
DESCRIPTION:Contents of Lovely Bennett Valley Home Susan Gardner Estate Sales 
UID:1776796933
STREET-ADDRESS:See website
POSTAL-CODE:95405
LOCALITY:Santa Rosa
REGION:ABBREV=CA
COUNTRY:ABBREV=US;ABBREV=USA:United States
URL;TYPE=Event Listing:https://estatesales.org/estate-sales/ca/santa-rosa/95405/contents-of-lovely-bennett-valley-1897677
PRIORITY:1
CLASS:PUBLIC
SEQUENCE:0
STATUS:CONFIRMED
TRANSP:OPAQUE
END:VEVENT
END:VCALENDAR
