BEGIN:VCALENDAR
VERSION:2.0
METHOD:PUBLISH
BEGIN:VEVENT
DTSTART:20210501T160000Z
DTEND:20210502T210000Z
LOCATION:Sherman Oaks, CA 91403
TRANSP: OPAQUE
SEQUENCE:0
UID:
DTSTAMP:20260420T020313Z
SUMMARY:50-90% off Most Everything Sunday. Empty The House Of Décor, furniture, art, Piano and so much more
DESCRIPTION:50-90% off Most Everything Sunday. Empty The House Of Décor, furniture, art, Piano and so much more Triumphant Estate Sales of Los Angeles 
UID:1776672193
STREET-ADDRESS:See website
POSTAL-CODE:91403
LOCALITY:Sherman Oaks
REGION:ABBREV=CA
COUNTRY:ABBREV=US;ABBREV=USA:United States
URL;TYPE=Event Listing:https://estatesales.org/estate-sales/ca/sherman-oaks/91403/5090-off-most-everything-sunday-1895583
PRIORITY:1
CLASS:PUBLIC
SEQUENCE:0
STATUS:CONFIRMED
TRANSP:OPAQUE
END:VEVENT
END:VCALENDAR
