BEGIN:VCALENDAR
VERSION:2.0
METHOD:PUBLISH
BEGIN:VEVENT
DTSTART:20260430T140000Z
DTEND:20260503T200000Z
LOCATION:Pinson, AL 35126 (Full address will be shown on Wed, Apr 22 12:00am)
TRANSP: OPAQUE
SEQUENCE:0
UID:
DTSTAMP:20260419T122254Z
SUMMARY:Retro Vibes Presents: Strings, Steel & Stories – Pinson, AL
DESCRIPTION:Retro Vibes Presents: Strings, Steel & Stories – Pinson, AL Retro Vibes Estate Sales LLC 
UID:1776622974
STREET-ADDRESS:See website
POSTAL-CODE:35126
LOCALITY:Pinson
REGION:ABBREV=AL
COUNTRY:ABBREV=US;ABBREV=USA:United States
URL;TYPE=Event Listing:https://estatesales.org/estate-sales/al/pinson/35126/retro-vibes-presents-strings-steel-2436011
PRIORITY:1
CLASS:PUBLIC
SEQUENCE:0
STATUS:CONFIRMED
TRANSP:OPAQUE
END:VEVENT
END:VCALENDAR
