BEGIN:VCALENDAR
VERSION:2.0
METHOD:PUBLISH
BEGIN:VEVENT
DTSTART:20260430T140000Z
DTEND:20260502T220000Z
LOCATION:Murfreesboro, TN 37130 (Full address will be shown on Wed, Apr 29 9:00am)
TRANSP: OPAQUE
SEQUENCE:0
UID:
DTSTAMP:20260423T000039Z
SUMMARY:POP-UP COLLECTIONS MURFREESBORO ESTATE SALE
DESCRIPTION:POP-UP COLLECTIONS MURFREESBORO ESTATE SALE White Monkey Estate Sales 
UID:1776924039
STREET-ADDRESS:See website
POSTAL-CODE:37130
LOCALITY:Murfreesboro
REGION:ABBREV=TN
COUNTRY:ABBREV=US;ABBREV=USA:United States
URL;TYPE=Event Listing:https://estatesales.org/estate-sales/tn/murfreesboro/37130/popup-collections-murfreesboro-estate-sale-2436757
PRIORITY:1
CLASS:PUBLIC
SEQUENCE:0
STATUS:CONFIRMED
TRANSP:OPAQUE
END:VEVENT
END:VCALENDAR
